Workbook
Name ABS_pg1: #REF!
Name ABS_pg1: #REF!
Name ABS_pg2: #REF!
Name ABS_pg2: #REF!
Name Chargeoffs: #REF!
Name Chargeoffs: #REF!
Name Input_Key: #REF!
Name Input_Key: #REF!
Name Input_Key_pg2: #REF!
Name Input_Key_pg2: #REF!
Name Payment_Directions_pg1: #REF!
Name Payment_Directions_pg1: #REF!
Name Payment_Directions_pg2: #REF!
Name Payment_Directions_pg2: #REF!
Name QMR_pg1: #REF!
Name QMR_pg1: #REF!
Name QMR_pg2: #REF!
Name QMR_pg2: #REF!
Name QMR_pg3: #REF!
Name QMR_pg3: #REF!
Name QMR_pg4: #REF!
Name QMR_pg4: #REF!

Sheet Notes Balance
A1: TOTAL NOTE BALANCES
B2: Total Notes | C2: Class A Notes | D2: Class A2 Notes | E2: Class B Notes | F2: Class C Notes
A3: Initial Invested Amount | B3: =SUM(C3:G3) -> 492250000 | C3: 492250000 | D3: 0 | E3: 0 | F3: 0
A4: Invested Amount as at Previous Payment Date: 7 June 2024 | B4: =SUM(C4:G4) -> 492250000 | C4: 492250000 | D4: 0 | E4: 0 | F4: 0
A5: Stated Amount as at Previous Payment Date: 7 June 2024 | B5: =SUM(C5:G5) -> 492250000 | C5: 492250000 | D5: 0 | E5: 0 | F5: 0
A6: Principal Payments to Noteholders on Payment Date | B6: =SUM(C6:G6) -> 35835628 | C6: 35835628 | D6: 0 | E6: 0 | F6: 0
A7: Gross Aggregate Charge-Offs | B7: =SUM(C7:G7) -> 0 | C7: 0 | D7: 0 | E7: 0 | F7: 0
A8: Gross Aggregate Reinstatements of charge-offs | B8: =SUM(C8:G8) -> 0 | C8: 0 | D8: 0 | E8: 0 | F8: 0
A9: Aggregate Charge-Offs for this Collection Period | B9: =SUM(C9:G9) -> 0 | C9: 0 | D9: 0 | E9: 0 | F9: 0
A10: Reinstatements relating to Charge-offs that have occurred this Collection Period | B10: =SUM(C10:G10) -> 0 | C10: 0 | D10: 0 | E10: 0 | F10: 0
A11: Aggregate Carry Over Charge-offs not previously reinstated | B11: =SUM(C11:G11) -> 0 | C11: 0 | D11: 0 | E11: 0 | F11: 0
A12: Reinstatements of Carry Over Charge-offs not previously reinstated | B12: =SUM(C12:G12) -> 0 | C12: 0 | D12: 0 | E12: 0 | F12: 0
A13: Aggregate Charge-Offs not reinstated and to be carried over to next period | B13: =SUM(C13:G13) -> 0 | C13: 0 | D13: 0 | E13: 0 | F13: 0
A14: Invested Amount as at Payment Date: 16 August 2024 | B14: =SUM(C14:G14) -> 4.5641437e+08 | C14: 4.5641437e+08 | D14: 0 | E14: 0 | F14: 0
A15: Stated Amount as at Payment Date: 16 August 2024 | B15: =SUM(C15:G15) -> 4.5641437e+08 | C15: 4.5641437e+08 | D15: 0 | E15: 0 | F15: 0
A16: Bond Factor at Payment Date: 16 August 2024 | C16: 0.92720035 | D16: 0 | E16: 0 | F16: 0
A17: Coupon Margin | C17: 0.0125 | D17: 0 | E17: 0 | F17: 0
A18: Coupon Rate (3 month BBSW + margin) | C18: 0.055665 | D18: 0.043165 | E18: 0.043165 | F18: 0.043165
A19: Days in Coupon Period | C19: 70 | D19: 70 | E19: 70 | F19: 70
A20: Coupon Entitlement to be paid out on the current Payment Date: 16 August 2024 | C20: 5255004.8 | D20: 0 | E20: 0 | F20: 0
A23: TOTAL NOTE BALANCES
B24: Total Notes | C24: Class A Notes | D24: Class A2 Notes | E24: Class B Notes | F24: Class C Notes
A25: Initial Invested Amount | B25: =SUM(C25:G25) -> 492250000 | C25: 492250000 | D25: 0 | E25: 0 | F25: 0
A26: Invested Amount as at Previous Payment Date: 16 August 2024 | B26: =SUM(C26:G26) -> 4.5641437e+08 | C26: 4.5641437e+08 | D26: 0 | E26: 0 | F26: 0
A27: Stated Amount as at Previous Payment Date: 16 August 2024 | B27: =SUM(C27:G27) -> 4.5641437e+08 | C27: 4.5641437e+08 | D27: 0 | E27: 0 | F27: 0
A28: Principal Payments to Noteholders on Payment Date | B28: =SUM(C28:G28) -> 29925032 | C28: 29925032 | D28: 0 | E28: 0 | F28: 0
A29: Gross Aggregate Charge-Offs | B29: =SUM(C29:G29) -> 0 | C29: 0 | D29: 0 | E29: 0 | F29: 0
A30: Gross Aggregate Reinstatements of charge-offs | B30: =SUM(C30:G30) -> 0 | C30: 0 | D30: 0 | E30: 0 | F30: 0
A31: Aggregate Charge-Offs for this Collection Period | B31: =SUM(C31:G31) -> 0 | C31: 0 | D31: 0 | E31: 0 | F31: 0
A32: Reinstatements relating to Charge-offs that have occurred this Collection Period | B32: =SUM(C32:G32) -> 0 | C32: 0 | D32: 0 | E32: 0 | F32: 0
A33: Aggregate Carry Over Charge-offs not previously reinstated | B33: =SUM(C33:G33) -> 0 | C33: 0 | D33: 0 | E33: 0 | F33: 0
A34: Reinstatements of Carry Over Charge-offs not previously reinstated | B34: =SUM(C34:G34) -> 0 | C34: 0 | D34: 0 | E34: 0 | F34: 0
A35: Aggregate Charge-Offs not reinstated and to be carried over to next period | B35: =SUM(C35:G35) -> 0 | C35: 0 | D35: 0 | E35: 0 | F35: 0
A36: Invested Amount as at Payment Date: 18 November 2024 | B36: =SUM(C36:G36) -> 4.2648934e+08 | C36: 4.2648934e+08 | D36: 0 | E36: 0 | F36: 0
A37: Stated Amount as at Payment Date: 18 November 2024 | B37: =SUM(C37:G37) -> 4.2648934e+08 | C37: 4.2648934e+08 | D37: 0 | E37: 0 | F37: 0
A38: Bond Factor at Payment Date: 18 November 2024 | C38: 0.866408 | D38: 0 | E38: 0 | F38: 0
A39: Coupon Margin | C39: 0.0125 | D39: 0 | E39: 0 | F39: 0
A40: Coupon Rate (3 month BBSW + margin) | C40: 0.056172 | D40: 0.043672 | E40: 0.043672 | F40: 0.043672
A41: Days in Coupon Period | C41: 94 | D41: 94 | E41: 94 | F41: 94
A42: Coupon Entitlement to be paid out on the current Payment Date: 18 November 2024 | C42: 6602587.8 | D42: 0 | E42: 0 | F42: 0
...

Sheet Cumulative Defaults
A1: Cumulative Defaults & Losses
A3: Month | B3: Gross Losses | C3: Recoveries | D3: Net Losses
A4: 45504 | B4: =+'Collateral Tables'!AK9/550000000 -> 0 | C4: =+'Collateral Tables'!AK23/540000000 -> 0 | D4: =+B4-C4 -> 0
A5: 45596 | B5: =+B4+'Collateral Tables'!AG$9/'Collateral Tables'!AK$6 -> 0.00074571312 | C5: =+C4+'Collateral Tables'!AG$23/'Collateral Tables'!AK$6 -> 0 | D5: =+B5-C5 -> 0.00074571312
A6: 45688 | B6: =+B5+'Collateral Tables'!AC$9/'Collateral Tables'!AK$6 -> 0.00074571312 | C6: =+C5+'Collateral Tables'!AC$23/'Collateral Tables'!AK$6 -> 0.00011662369 | D6: =+B6-C6 -> 0.00062908943
A7: 45777 | B7: =+B6+'Collateral Tables'!Y$9/'Collateral Tables'!AK$6 -> 0.00074571312 | C7: =+C6+'Collateral Tables'!Y$23/'Collateral Tables'!AK$6 -> 0.00076275549 | D7: =+B7-C7 -> -1.7042364e-05
A8: 45869 | B8: =+B7+'Collateral Tables'!U9/'Collateral Tables'!AK$6 -> 0.00082694618 | C8: =+C7+'Collateral Tables'!U23/'Collateral Tables'!AK$6 -> 0.00076275549 | D8: =+B8-C8 -> 6.4190692e-05
A9: 45961 | B9: =+B8+'Collateral Tables'!Q$9/'Collateral Tables'!AK$6 -> 0.00097521346 | C9: =+C8+'Collateral Tables'!Q$23/'Collateral Tables'!AK$6 -> 0.00077046507 | D9: =+B9-C9 -> 0.00020474839
A10: 46053 | B10: =+B9+'Collateral Tables'!M$9/'Collateral Tables'!AK$6 -> 0.00097521346 | C10: =+C9+'Collateral Tables'!M$23/'Collateral Tables'!AK$6 -> 0.00091028166 | D10: =+B10-C10 -> 6.4931801e-05
A11: 46142 | B11: =+B10+'Collateral Tables'!I$9/'Collateral Tables'!AK$6 -> 0.0012797313 | C11: =+C10+'Collateral Tables'!I$23/'Collateral Tables'!AK$6 -> 0.0010707429 | D11: =+B11-C11 -> 0.00020898837
A12: 46234 | B12: =+B11+'Collateral Tables'!E$9/'Collateral Tables'!AK$6 -> 0.0012797313 | C12: =+C11+'Collateral Tables'!E$23/'Collateral Tables'!AK$6 -> 0.0012235875 | D12: =+B12-C12 -> 5.6143801e-05

Sheet Collateral Tables
B1: CNHI CAPITAL AUSTRALIA RECEIVABLES TRUST SERIES 2024-1 (TERM DEAL)
B2: COLLATERAL DATA TABLES
B4: OUTSTANDING RECEIVABLES | E4: 46234 | I4: 46142 | M4: 46053 | Q4: 45961 | U4: 45869 | Y4: 45777 | AC4: 45688 | AG4: 45596 | AK4: 45504
B6: Opening Balance | E6: 2.0271554e+08 | I6: 2.7327934e+08 | M6: 3.0521845e+08 | Q6: 3.3471362e+08 | U6: 3.7011965e+08 | Y6: 4.5073106e+08 | AC6: 4.838292e+08 | AG6: 5.1416437e+08 | AK6: 5.4999999e+08
B7: Principal Repayments - Scheduled | E7: 27081110 | I7: 66398164 | M7: 27479381 | Q7: 22119377 | U7: 31263165 | Y7: 72320987 | AC7: 29009256 | AG7: 23829534 | AK7: 31195990
B8: Principal Repayments - Unscheduled | E8: 1578742.6 | I8: 3998157.4 | M8: 4459721.1 | Q8: 7294245.7 | U8: 4098193.6 | Y8: 8290417.1 | AC8: 4088885.3 | AG8: 6095498.3 | AK8: 4639626.4
A9: =SUM(E9:AK9) -> 703852.19 | B9: Charge-Offs | E9: 0 | I9: 167484.8 | M9: 0 | Q9: 81547 | U9: 44678.18 | Y9: 0 | AC9: 0 | AG9: 410142.21 | AK9: 0
B10: Reinstatements
B11: New Receivables Purchased
B12: Non Cash Change in Receivables
B13: Closing Balance | E13: 1.7405569e+08 | G13: 6.2584877e-07 | I13: 2.0271554e+08 | K13: 6.2584877e-07 | M13: 2.7327934e+08 | O13: 8.9406967e-07 | Q13: 3.0521845e+08 | S13: 8.3446503e-07 | U13: 3.3471362e+08 | W13: 8.3446503e-07 | Y13: 3.7011965e+08 | AA13: 6.5565109e-07 | AC13: 4.5073106e+08 | AE13: 1.013279e-06 | AG13: 4.838292e+08 | AI13: 5.364418e-07 | AK13: 5.1416437e+08
B15: PORTFOLIO STATISTICS
B17: Summary
B18: Number of contracts | E18: 1957 | I18: 2219 | M18: 2427 | Q18: 2541 | U18: 2650 | Y18: 2707 | AC18: 2784 | AG18: 2815 | AK18: 2855
B19: Dollar value of contracts | E19: 1.7405569e+08 | I19: 2.0271554e+08 | M19: 2.7327934e+08 | Q19: 3.0521845e+08 | U19: 3.3471362e+08 | Y19: 3.7011965e+08 | AC19: 4.5073106e+08 | AG19: 4.838292e+08 | AK19: 5.1416437e+08
B20: Number of contracts closed during the Quarter | E20: 262 | I20: 207 | M20: 114 | Q20: 107 | U20: 56 | Y20: 77 | AC20: 31 | AG20: 38 | AK20: 31
B21: Dollar value of contracts closed during the Quarter | E21: 8646555.7 | I21: 16249539 | M21: 7421579.3 | Q21: 12002222 | U21: 8640227.2 | Y21: 13769187 | AC21: 5024718.5 | AG21: 9699773.9 | AK21: 5938251.5
A23: =SUM(E23:AK23) -> 672973.1 | B23: Dollar Value of Recoveries from Collateral | E23: 84064.51 | I23: 88253.69 | M23: 76899.12 | Q23: 4240.27 | U23: 0 | Y23: 355372.48 | AC23: 64143.03 | AG23: 0 | AK23: 0
A24: =SUM(E24:AK24) -> 0 | B24: Dollar Value of Recoveries from Other Sources | E24: 0 | I24: 0 | M24: 0 | Q24: 0 | U24: 0 | Y24: 0 | AC24: 0 | AG24: 0 | AK24: 0
B26: Average Term of Contracts (Months) | E26: 55.445633 | I26: 55.031232 | M26: 53.859817 | Q26: 53.530282 | U26: 53.320423 | Y26: 53.128966 | AC26: 52.589394 | AG26: 52.4019 | AK26: 52.110885
B27: Average Term to Maturity (Months) | E27: 15.643146 | I27: 18.150391 | M27: 19.759671 | Q27: 22.471054 | U27: 25.078291 | Y27: 27.861969 | AC27: 30.209109 | AG27: 33.043625 | AK27: 35.70266
B28: Average Residual / Balloon Payment * | E28: 0.039982608 | I28: 0.038601002 | M28: 0.033959375 | Q28: 0.033729003 | U28: 0.035604456 | Y28: 0.035634236 | AC28: 0.03302866 | AG28: 0.032449573 | AK28: 0.032549296
B29: Average Seasoning (Months) | E29: 39.802488 | I29: 36.880841 | M29: 34.100146 | Q29: 31.059228 | U29: 28.242133 | Y29: 25.266997 | AC29: 22.380285 | AG29: 19.358275 | AK29: 16.408225
B30: Average Dollar Value of Individual Assets | E30: 88940.054 | I30: 91354.456 | M30: 112599.65 | Q30: 120117.45 | U30: 126307.03 | Y30: 136726.88 | AC30: 161900.52 | AG30: 171875.38 | AK30: 180092.6
B31: Weighted Average Interest Rate | E31: 0.037260129 | I31: 0.03673751 | M31: 0.036354368 | Q31: 0.036061459 | U31: 0.035853957 | Y31: 0.035670129 | AC31: 0.035418526 | AG31: 0.035244528 | AK31: 0.035238095
B33: Payment in Arrears
A34: 1. 0 - 30 Days | B34: 0 - 30 Days | E34: 1950 | F34: 117891.56 | G34: 0.00067732094 | I34: 2212 | J34: 561048.98 | K34: 0.0027676664 | M34: 2422 | N34: 130868.42 | O34: 0.00047888149 | Q34: 2535 | R34: 222909.28 | S34: 0.00073032702 | U34: 2629 | V34: 368746.28 | W34: 0.001101677 | Y34: 2696 | Z34: 770957.3 | AA34: 0.0020829948 | AC34: 2774 | AD34: 475796.58 | AE34: 0.0010556108 | AG34: 2812 | AH34: 90752.41 | AI34: 0.00018757117 | AK34: 2851 | AL34: 133092.5 | AM34: 0.00025885205
A35: 2. 31 - 60 Days | B35: 31 - 60 Days | E35: 3 | F35: 131411.89 | G35: 0.00075499912 | I35: 1 | J35: 5432.44 | K35: 2.679834e-05 | M35: 2 | N35: 34113.77 | O35: 0.00012483113 | Q35: 3 | R35: 28683.64 | S35: 9.3977413e-05 | U35: 10 | V35: 349812.44 | W35: 0.0010451097 | Y35: 8 | Z35: 73125.18 | AA35: 0.00019757173 | AC35: 8 | AD35: 146174.21 | AE35: 0.00032430472 | AG35: 3 | AH35: 35352.45 | AI35: 7.3068038e-05 | AK35: 1 | AL35: 3218.29 | AM35: 6.2592629e-06
A36: 3. 61 - 90 Days | B36: 61 - 90 Days | E36: 2 | F36: 11529.93 | G36: 6.6242766e-05 | I36: 6 | J36: 141211.2 | K36: 0.00069659781 | M36: 1 | N36: 2578.53 | O36: 9.43551e-06 | Q36: 2 | R36: 10319.39 | S36: 3.380985e-05 | U36: 4 | V36: 106434.12 | W36: 0.00031798563 | Y36: 2 | Z36: 132039.27 | AA36: 0.00035674752 | AC36: 0 | AD36: 0 | AE36: 0 | AG36: 0 | AH36: 0 | AI36: 0 | AK36: 0 | AL36: 0 | AM36: 0
A37: 4. 91 - 120 Days | B37: 91 - 120 Days | E37: 1 | F37: 86204.28 | G37: 0.00049526839 | I37: 0 | J37: 0 | K37: 0 | M37: 1 | N37: 46500 | O37: 0.00017015556 | Q37: 1 | R37: 155.11 | S37: 5.081934e-07 | U37: 2 | V37: 18033.98 | W37: 5.3878836e-05 | Y37: 1 | Z37: 23186.54 | AA37: 6.2646065e-05 | AC37: 1 | AD37: 2452.22 | AE37: 5.4405392e-06 | AG37: 0 | AH37: 0 | AI37: 0 | AK37: 3 | AL37: 74438.33 | AM37: 0.00014477536
A38: 5. 121 - 150 Days | B38: 121 - 150 Days | E38: 0 | F38: 0 | G38: 0 | I38: 0 | J38: 0 | K38: 0 | M38: 1 | N38: 10189.89 | O38: 3.728745e-05 | Q38: 0 | R38: 0 | S38: 0 | U38: 3 | V38: 38627.94 | W38: 0.00011540594 | Y38: 0 | Z38: 0 | AA38: 0 | AC38: 1 | AD38: 12294.94 | AE38: 2.7277774e-05 | AG38: 0 | AH38: 0 | AI38: 0 | AK38: 0 | AL38: 0 | AM38: 0
A39: 6. 151 - 180 Days | B39: 151 - 180 Days | E39: 1 | F39: 55079.32 | G39: 0.00031644654 | I39: 0 | J39: 0 | K39: 0 | M39: 0 | N39: 0 | O39: 0 | Q39: 0 | R39: 0 | S39: 0 | U39: 2 | V39: 67226.35 | W39: 0.00020084737 | Y39: 0 | Z39: 0 | AA39: 0 | AC39: 0 | AD39: 0 | AE39: 0 | AG39: 0 | AH39: 0 | AI39: 0 | AK39: 0 | AL39: 0 | AM39: 0
B40: Total | E40: 1957 | F40: 402116.98 | G40: 0.0023102778 | I40: 2219 | J40: 707692.62 | K40: 0.0034910625 | M40: 2427 | N40: 224250.61 | O40: 0.00082059114 | Q40: 2541 | R40: 262067.42 | S40: 0.00085862248 | U40: 2650 | V40: 948881.11 | W40: 0.0028349044 | Y40: 2707 | Z40: 999308.29 | AA40: 0.0026999601 | AC40: 2784 | AD40: 636717.95 | AE40: 0.0014126339 | AG40: 2815 | AH40: 126104.86 | AI40: 0.00026063921 | AK40: 2855 | AL40: 210749.12 | AM40: 0.00040988667
B41: * Expressed as a % of Aggreg. Rec. closing bal. | F41: > 30 days | G41: 0.0016329568 | J41: > 30 days | K41: 0.00072339615 | N41: > 30 days | O41: 0.00034170965 | R41: > 30 days | S41: 0.00012829546 | V41: > 30 days | W41: 0.0017332275 | Z41: > 30 days | AA41: 0.00061696532 | AD41: > 30 days | AE41: 0.00035702304 | AH41: > 30 days | AI41: 7.3068038e-05 | AL41: > 30 days | AM41: 0.00015103462
A43: 0 - 30 Days | B43: Account Balances in Arrears
A44: 1. 0 - 30 Days | B44: 0 - 30 Days | E44: 1950 | F44: 1.729292e+08 | G44: 0.99352803 | I44: 2212 | J44: 2.0201615e+08 | K44: 0.99654993 | M44: 2422 | N44: 2.7279521e+08 | O44: 0.99822844 | Q44: 2535 | R44: 3.0459101e+08 | S44: 0.99794432 | U44: 2629 | V44: 3.3194001e+08 | W44: 0.9917135 | Y44: 2696 | Z44: 3.6878561e+08 | AA44: 0.99639563 | AC44: 2774 | AD44: 4.49522e+08 | AE44: 0.99731757 | AG44: 2812 | AH44: 4.8366549e+08 | AI44: 0.99966164 | AK44: 2851 | AL44: 5.1367048e+08 | AM44: 0.99903943
A45: 2. 31 - 60 Days | B45: 31 - 60 Days | E45: 3 | F45: 538968.91 | G45: 0.0030965315 | I45: 1 | J45: 108761.05 | K45: 0.00053652054 | M45: 2 | N45: 116265.05 | O45: 0.00042544397 | Q45: 3 | R45: 401454.01 | S45: 0.0013153006 | U45: 10 | V45: 1572024.6 | W45: 0.0046966257 | Y45: 8 | Z45: 802352.45 | AA45: 0.0021678191 | AC45: 8 | AD45: 1107887.5 | AE45: 0.0024579791 | AG45: 3 | AH45: 163708.82 | AI45: 0.00033836077 | AK45: 1 | AL45: 47827.9 | AM45: 9.3020642e-05
A46: 3. 61 - 90 Days | B46: 61 - 90 Days | E46: 2 | F46: 70869.2 | G46: 0.00040716395 | I46: 6 | J46: 590622.16 | K46: 0.0029135515 | M46: 1 | N46: 79716.51 | O46: 0.00029170339 | Q46: 2 | R46: 140726.08 | S46: 0.00046106676 | U46: 4 | V46: 506952.87 | W46: 0.0015145869 | Y46: 2 | Z46: 487016.36 | AA46: 0.0013158349 | AC46: 0 | AD46: 0 | AE46: 0 | AG46: 0 | AH46: 0 | AI46: 0 | AK46: 0 | AL46: 0 | AM46: 0
A47: 4. 91 - 120 Days | B47: 91 - 120 Days | E47: 1 | F47: 229282.1 | G47: 0.0013172916 | I47: 0 | J47: 0 | K47: 0 | M47: 1 | N47: 167484.8 | O47: 0.00061287032 | Q47: 1 | R47: 85252.76 | S47: 0.00027931719 | U47: 2 | V47: 69716.04 | W47: 0.00020828564 | Y47: 1 | Z47: 44678.18 | AA47: 0.0001207128 | AC47: 1 | AD47: 42056.51 | AE47: 9.3307327e-05 | AG47: 0 | AH47: 0 | AI47: 0 | AK47: 3 | AL47: 446064.45 | AM47: 0.00086755224
A48: 5. 121 - 150 Days | B48: 121 - 150 Days | E48: 0 | F48: 0 | G48: 0 | I48: 0 | J48: 0 | K48: 0 | M48: 1 | N48: 120664.13 | O48: 0.00044154135 | Q48: 0 | R48: 0 | S48: 0 | U48: 3 | V48: 171303.79 | W48: 0.00051179212 | Y48: 0 | Z48: 0 | AA48: 0 | AC48: 1 | AD48: 59109.39 | AE48: 0.00013114115 | AG48: 0 | AH48: 0 | AI48: 0 | AK48: 0 | AL48: 0 | AM48: 0
...
